BEGIN:VCALENDAR
PRODID:-//Soapbox Engage//Events iCal//EN
VERSION:2.0
METHOD:PUBLISH
BEGIN:VEVENT
DTSTART:20190613T220000Z
DTEND:20190614T000000Z
DTSTAMP:20210723T145840
DESCRIPTION:Texas is ripe with legal issues regarding diversity and inclusion. This session, a number of voting measures that strike at the heart of inclusion and the right to vote have been pushed through the legislature. At law firms, the Diversity Report Card project has been keeping data on where firms stand on diversity and where they need to be. And lastly, the state bar is currently confronted with a lawsuit regarding hostility towards a portion of bar dues supporting diversity efforts.Join the ACS Austin Lawyer Chapter for an engaging panel discussion on these issues, and a chance to weigh in and meet those work towards diversity in the legal profession.Featuring:Amanda Gnaedinger, Southwest Organizer, Common&nbsp;Cause; Member, ACS Austin Lawyer Chapter Board of DirectorsThe Honorable Rudy Metayer, Councilmember, City of Pflugerville, TX; Attorney, Chamberlain McHaneyBetsy Peticolas, Air Attorney, Texas Commission on Environmental Quality; former President, Hispanic Bar Association of Austin&nbsp;A reception with refreshments and appetizers will accompany the panel.Thank you to DLA Piper for generously hosting this event.\n\nFor details, click here: http://getinvolved.acslaw.org/index.php?option=com_events&view=event&id=311
SUMMARY:ACS Austin: The Current Legal Landscape of Diversity Efforts in Texas: Voting Rights, Law Firm Diversity, and the State Bar
ORGANIZER;CN=American Constitution Society:MAILTO:info@acslaw.org
UID:311-20190613T180000@americanconstitutionsociety.nonprofitsoapbox.com
SEQUENCE:0
END:VEVENT
END:VCALENDAR
