BEGIN:VCALENDAR
PRODID:-//Soapbox Engage//Events iCal//EN
VERSION:2.0
METHOD:PUBLISH
BEGIN:VEVENT
DTSTART:20190425T220000Z
DTEND:20190426T000000Z
DTSTAMP:20210721T091731
DESCRIPTION:Join the ACS Bay Area Lawyer Chapter for the next installment in its Fireside Chat series, a set of laid-back conversations on timely and relevant updates in the progressive legal space.What keeps structural sexism in place today? How can we dismantle the patriarchy in the #MeToo world? Noreen Farrell and Jahan Sagafi will touch on their work advocating for women and girls fighting discrimination, harassment, and sexual assault. In conversation with the audience, they will also explore relevant legal regimes, unconscious biases, outdated gender norms, tension between hate speech and free speech, how to REALLY be a good ally, and more. We hope that you will join us as we explore where we are, how we got here, and how to dismantle the patriarchy together.Featuring:Noreen Farrell, Executive Director, Equal Rights AdvocatesJahan Sagafi, Partner, Outten &amp; Golden LLP; Member, ACS Bay Area Lawyer Chapter Board of Advisors\n\nFor details, click here: http://getinvolved.acslaw.org/index.php?option=com_events&view=event&id=246
SUMMARY:ACS Bay Area: Dismantle the Patriarchy: A Fireside Chat with Noreen Farrell, Executive Director of Equal Rights Advocates, and Jahan Sagafi, Partner, Outten & Golden LLP
ORGANIZER;CN=American Constitution Society:MAILTO:info@acslaw.org
UID:246-20190425T180000@americanconstitutionsociety.nonprofitsoapbox.com
SEQUENCE:0
END:VEVENT
END:VCALENDAR
