BEGIN:VCALENDAR
PRODID:-//Soapbox Engage//Events iCal//EN
VERSION:2.0
METHOD:PUBLISH
BEGIN:VEVENT
DTSTART:20190402T163000Z
DTEND:20190402T171500Z
DTSTAMP:20210721T091712
DESCRIPTION:Join the Connecticut Lawyer Chapter and University of Connecticut Student Chapter of the American Constitution Society for lunch and a discussion with ACS President Caroline Fredrickson.Featuring:Caroline Fredrickson, President, American Constitution Society; Author, Under The Bus: How Working Women Are Being Run Over and The Democracy Fix: How to Win the Fight for Fair Rules, Fair Courts, and Fair Elections\n\nFor details, click here: http://getinvolved.acslaw.org/index.php?option=com_events&view=event&id=245
SUMMARY:ACS Connecticut: A Discussion with ACS President Caroline Fredrickson
ORGANIZER;CN=American Constitution Society:MAILTO:info@acslaw.org
UID:245-20190402T123000@americanconstitutionsociety.nonprofitsoapbox.com
SEQUENCE:0
END:VEVENT
END:VCALENDAR
